BEGIN:VCALENDAR
VERSION:2.0
PRODID:-//SVP Eglisau //NONSGML Events //EN
CALSCALE:GREGORIAN
X-WR-CALNAME:SVP Eglisau
BEGIN:VEVENT
CREATED:20260119T171100Z
UID:2297
DTEND:20260308T170000
DTSTART:20260308T160000
DTSTAMP:20260421T085206Z
LOCATION:
DESCRIPTION:
SUMMARY:Wahlergebnisfeier SVP Eglisau
ORGANIZER:
URL;VALUE=URI:https://www.svp-eglisau.ch/termine/wahlergebnisfeier-svp-eglisau/
TRANSP:OPAQUE
END:VEVENT
END:VCALENDAR
