BEGIN:VCALENDAR
VERSION:2.0
PRODID:-//SVP Eglisau //NONSGML Events //EN
CALSCALE:GREGORIAN
X-WR-CALNAME:SVP Eglisau
BEGIN:VEVENT
CREATED:20260119T171313Z
UID:2299
DTEND:20260312T200000
DTSTART:20260312T193000
DTSTAMP:20260421T085835Z
LOCATION:Mehrzweckhalle Steinboden
DESCRIPTION:
SUMMARY:Gemeindeversammlung Eglisau (Reservetermin)
ORGANIZER:
URL;VALUE=URI:https://www.svp-eglisau.ch/termine/gemeindeversammlung-eglisau-reservetermin/
TRANSP:OPAQUE
END:VEVENT
END:VCALENDAR
